BEGIN:VCALENDAR
VERSION:2.0
PRODID:-//Tamura Electronics (M) Sdn. Bhd. - ECPv6.15.20//NONSGML v1.0//EN
CALSCALE:GREGORIAN
METHOD:PUBLISH
X-WR-CALNAME:Tamura Electronics (M) Sdn. Bhd.
X-ORIGINAL-URL:https://tamura.com.my
X-WR-CALDESC:Events for Tamura Electronics (M) Sdn. Bhd.
REFRESH-INTERVAL;VALUE=DURATION:PT1H
X-Robots-Tag:noindex
X-PUBLISHED-TTL:PT1H
BEGIN:VTIMEZONE
TZID:Asia/Shanghai
BEGIN:STANDARD
TZOFFSETFROM:+0800
TZOFFSETTO:+0800
TZNAME:CST
DTSTART:20180101T000000
END:STANDARD
END:VTIMEZONE
BEGIN:VEVENT
DTSTART;VALUE=DATE:20191029
DTEND;VALUE=DATE:20191031
DTSTAMP:20260426T071607
CREATED:20190103T010709Z
LAST-MODIFIED:20190103T010709Z
UID:5049-1572307200-1572479999@tamura.com.my
SUMMARY:Deepavali Day
DESCRIPTION:Company Off Day – Deepavali Day
URL:https://tamura.com.my/event/deepavali-day-20191029-30/
CATEGORIES:Company Off Day
END:VEVENT
END:VCALENDAR